BEGIN:VCALENDAR
VERSION:2.0
PRODID:icalendar-ruby
CALSCALE:GREGORIAN
METHOD:PUBLISH
BEGIN:VEVENT
DTSTAMP:20260420T175815Z
UID:89-386808@oakheights.org
DTSTART:20260502T160000Z
DTEND:20260502T180000Z
CLASS:PUBLIC
CREATED:20260406T160240
DESCRIPTION:Ladies\, we would love for you to join us for our upcoming Spri
 ng Luncheon! Our guest speaker is Jessica Vaage\, Community Relations Mana
 ger of The Dwelling Place\, a Christ-centered ministry that serves women a
 nd children fleeing domestic abuse. To support The Dwelling Place\, we wil
 l be accepting donations of personal care items.
LAST-MODIFIED:20260406T160240
LOCATION:1398 South Grade Rd. SW\, Hutchinson\, MN 55350
SUMMARY:Women's Spring Luncheon
URL;VALUE=URI:https://www.oakheights.org/events/womens-spring-luncheon/2026
 -05-02
ATTACH;FILENAME=Womens-Spring-Luncheon-AD-for-email-5.25-x-3.75-in-.png;FMT
 TYPE=image/png:https://dq5pwpg1q8ru0.cloudfront.net/2026/04/06/21/00/09/f6
 767408-28fd-424a-831f-5b29e180e4db/Womens-Spring-Luncheon-AD-for-email-5.2
 5-x-3.75-in-.png
END:VEVENT
END:VCALENDAR
