BEGIN:VCALENDAR
VERSION:2.0
PRODID:icalendar-ruby
CALSCALE:GREGORIAN
METHOD:PUBLISH
BEGIN:VEVENT
DTSTAMP:20260422T013640Z
UID:8-416434@oakheights.org
DTSTART:20260802T151000Z
DTEND:20260802T163000Z
CLASS:PUBLIC
CREATED:20260421T202913
DESCRIPTION:
LAST-MODIFIED:20260421T202913
LOCATION:1398 South Grade Road\, Hutchinson\, MN 55350
SUMMARY:Worship Service
URL;VALUE=URI:https://www.oakheights.org/events/worship-service--8/2026-08-
 02
ATTACH;FILENAME=20200622_125023.jpg;FMTTYPE=image/jpeg:https://dq5pwpg1q8ru
 0.cloudfront.net/2025/04/22/20/24/01/fee38544-fcd4-49f6-b2af-60968fdefd2d/
 20200622_125023.jpg
END:VEVENT
END:VCALENDAR
